BEGIN:VCALENDAR
VERSION:2.0
PRODID:-//Greenscore - ECPv6.1.3//NONSGML v1.0//EN
CALSCALE:GREGORIAN
METHOD:PUBLISH
X-ORIGINAL-URL:https://greenscore.com.my
X-WR-CALDESC:Events for Greenscore
REFRESH-INTERVAL;VALUE=DURATION:PT1H
X-Robots-Tag:noindex
X-PUBLISHED-TTL:PT1H
BEGIN:VTIMEZONE
TZID:UTC
BEGIN:STANDARD
TZOFFSETFROM:+0000
TZOFFSETTO:+0000
TZNAME:UTC
DTSTART:20240101T000000
END:STANDARD
END:VTIMEZONE
BEGIN:VEVENT
DTSTART;TZID=UTC:20240216T090000
DTEND;TZID=UTC:20241231T180000
DTSTAMP:20260423T115446
CREATED:20240214T070514Z
LAST-MODIFIED:20240214T070514Z
UID:1323-1708074000-1735668000@greenscore.com.my
SUMMARY:MEMBER SPECIAL - PWP ROUND#1 IS COMING SOON
DESCRIPTION:As a token of appreciation to our value customers\, we are going to have all-year-round PWP starts thus Friday (16/2/24)! Do enjoy special price for selected plants. \n为了感谢我们尊贵的客户，我们将从周五（16/2/24）开始全年 PWP！精选植物可享受特价。
URL:https://greenscore.com.my/event/member-special-pwp-round1-is-coming-soon/
END:VEVENT
END:VCALENDAR